BEGIN:VCALENDAR
VERSION:2.0
PRODID:-//Tukios.com/
BEGIN:VEVENT
UID:70dc2c7a-22ed-4564-8f86-fb74e55f62f8@www.michigancremation.com
DTSTAMP:20260421T231930Z
DTSTART:20260427T180000Z
DTEND:20260427T200000Z
SUMMARY:Visitation
DESCRIPTION:
URL:https://www.michigancremation.com/obituaries/liza-flores
LOCATION: 511 S Franklin St  Greenville MI 48838
GEO:43.1758191;-85.2552655
END:VEVENT
END:VCALENDAR