BEGIN:VCALENDAR
VERSION:2.0
PRODID:-//Tukios.com/
BEGIN:VEVENT
UID:29763ea4-1743-4527-82d3-96e4b1b40c49@www.michigancremation.com
DTSTAMP:20260420T153714Z
DTSTART:20260423T210000Z
DTEND:20260423T220000Z
SUMMARY:Funeral Service
DESCRIPTION:
URL:https://www.michigancremation.com/obituaries/eleanor-green
LOCATION: 511 S Franklin St  Greenville MI 48838
GEO:43.1758191;-85.2552655
END:VEVENT
END:VCALENDAR