BEGIN:VCALENDAR
VERSION:2.0
PRODID:-//Tukios.com/
BEGIN:VEVENT
UID:065b7a51-afdd-4ff2-83c7-9d0adfa0494f@www.michigancremation.com
DTSTAMP:20260420T153147Z
DTSTART:20260423T200000Z
DTEND:20260423T210000Z
SUMMARY:Visitation
DESCRIPTION:
URL:https://www.michigancremation.com/obituaries/eleanor-green
LOCATION: 511 S Franklin St  Greenville MI 48838
GEO:43.1758191;-85.2552655
END:VEVENT
END:VCALENDAR