BEGIN:VCALENDAR
VERSION:2.0
PRODID:-//Tukios.com/
BEGIN:VEVENT
UID:decde914-304b-4c49-ba1a-2d944864baba@www.michigancremation.com
DTSTAMP:20260422T172441Z
DTSTART:20260508T150000Z
DTEND:20260508T160000Z
SUMMARY:Memorial Service
DESCRIPTION:
URL:https://www.michigancremation.com/obituaries/dawn-campbell
LOCATION: 511 S Franklin St  Greenville MI 48838
GEO:43.1758191;-85.2552655
END:VEVENT
END:VCALENDAR