BEGIN:VCALENDAR
VERSION:2.0
PRODID:-//Tukios.com/
BEGIN:VEVENT
UID:9d6ae421-c264-425d-a338-0aea4c574353@www.michigancremation.com
DTSTAMP:20260422T171813Z
DTSTART:20260508T140000Z
DTEND:20260508T150000Z
SUMMARY:Visitation
DESCRIPTION:
URL:https://www.michigancremation.com/obituaries/dawn-campbell
LOCATION: 511 S Franklin St  Greenville MI 48838
GEO:43.1758191;-85.2552655
END:VEVENT
END:VCALENDAR