BEGIN:VCALENDAR
VERSION:2.0
PRODID:-//Tukios.com/
BEGIN:VEVENT
UID:f3e62c8a-cca8-4996-9531-a3139ae9d8a7@www.michigancremation.com
DTSTAMP:20260421T203300Z
DTSTART:20260530T180000Z
DTEND:20260530T200000Z
SUMMARY:Celebration of Life
DESCRIPTION:
URL:https://www.michigancremation.com/obituaries/crystal-wilcox
LOCATION:Algoma Township Hall 10531 Algoma Avenue Northeast  Rockford MI 
	49341
GEO:43.1562599;-85.611769
END:VEVENT
END:VCALENDAR