BEGIN:VCALENDAR
VERSION:2.0
PRODID:-//Tukios.com/
BEGIN:VEVENT
UID:1344a413-f11c-416b-929c-5209b1b50a5c@www.michigancremation.com
DTSTAMP:20260421T234013Z
DTSTART:20260424T170000Z
DTEND:20260424T180000Z
SUMMARY:Funeral Service
DESCRIPTION:
URL:https://www.michigancremation.com/obituaries/arlene-davis
LOCATION: 511 S Franklin St  Greenville MI 48838
GEO:43.1758191;-85.2552655
END:VEVENT
END:VCALENDAR